BEGIN:VCALENDAR
VERSION:2.0
PRODID:SchoolNow
CALSCALE:GREGORIAN
BEGIN:VEVENT
UID:c791214a-ca66-11ef-91bf-0affea5efdc3
DTSTAMP:20260421T181508Z
SUMMARY:PTA Association Meeting
URL;VALUE=URI:https://www.lahabraschools.org/laderapalma/calendar/7265361/p
 ta-association-meeting
DTSTART:20260826T023000Z
DTEND:20260826T033000Z
END:VEVENT
END:VCALENDAR
