BEGIN:VCALENDAR
VERSION:2.0
PRODID:SchoolNow
CALSCALE:GREGORIAN
BEGIN:VEVENT
UID:c9b4cdee-ddeb-11ef-9e68-0a58a9feac02
DTSTAMP:20260422T002009Z
SUMMARY:PTA Association Meeting
URL;VALUE=URI:https://www.lahabraschools.org/laderapalma/calendar/7390376/p
 ta-association-meeting
DTSTART:20260923T023000Z
DTEND:20260923T033000Z
END:VEVENT
END:VCALENDAR
