BEGIN:VCALENDAR
VERSION:2.0
PRODID:SchoolNow
CALSCALE:GREGORIAN
BEGIN:VEVENT
UID:92532e18-f605-11ef-b8b5-0a58a9feac02
DTSTAMP:20260422T002009Z
SUMMARY:PTA Association Meeting
URL;VALUE=URI:https://www.lahabraschools.org/laderapalma/calendar/7570115/p
 ta-association-meeting
DTSTART:20261028T023000Z
DTEND:20261028T033000Z
END:VEVENT
END:VCALENDAR
