BEGIN:VCALENDAR
VERSION:2.0
PRODID:SchoolNow
CALSCALE:GREGORIAN
BEGIN:VEVENT
UID:ff14ba26-012c-11f0-8e04-0a58a9feac02
DTSTAMP:20260421T181508Z
SUMMARY:PTA Association Meeting
URL;VALUE=URI:https://www.lahabraschools.org/laderapalma/calendar/7684796/p
 ta-association-meeting
DTSTART:20260623T220000Z
DTEND:20260623T230000Z
ATTACH;FILENAME=image0 (2).jpeg;FMTTYPE=image/jpeg:https://drive.google.com
 /open?id=19M9xmW9fdWcZGNUtaDclNQkcvfytshOC&authuser=0
END:VEVENT
END:VCALENDAR
