BEGIN:VCALENDAR
VERSION:2.0
PRODID:SchoolNow
CALSCALE:GREGORIAN
BEGIN:VEVENT
UID:ff14bd5a-012c-11f0-aabd-0a58a9feac02
DTSTAMP:20260422T002009Z
SUMMARY:PTA Association Meeting
URL;VALUE=URI:https://www.lahabraschools.org/laderapalma/calendar/7684799/p
 ta-association-meeting
DTSTART:20260922T220000Z
DTEND:20260922T230000Z
ATTACH;FILENAME=image0 (2).jpeg;FMTTYPE=image/jpeg:https://drive.google.com
 /open?id=19M9xmW9fdWcZGNUtaDclNQkcvfytshOC&authuser=0
END:VEVENT
END:VCALENDAR
