BEGIN:VCALENDAR
VERSION:2.0
PRODID:SchoolNow
CALSCALE:GREGORIAN
BEGIN:VEVENT
UID:a9c78a12-09bf-11f0-ab41-0a58a9feac02
DTSTAMP:20260422T002009Z
SUMMARY:PTA Association Meeting
URL;VALUE=URI:https://www.lahabraschools.org/laderapalma/calendar/7771357/p
 ta-association-meeting
DTSTART:20261125T033000Z
DTEND:20261125T043000Z
END:VEVENT
END:VCALENDAR
