BEGIN:VCALENDAR
VERSION:2.0
PRODID:SchoolNow
CALSCALE:GREGORIAN
BEGIN:VEVENT
UID:816f890e-2074-11f0-8a7e-0a58a9feac02
DTSTAMP:20260422T062509Z
SUMMARY:PTA Association Meeting
URL;VALUE=URI:https://www.lahabraschools.org/laderapalma/calendar/7992137/p
 ta-association-meeting
DTSTART:20261223T033000Z
DTEND:20261223T043000Z
END:VEVENT
END:VCALENDAR
