BEGIN:VCALENDAR
VERSION:2.0
PRODID:SchoolNow
CALSCALE:GREGORIAN
BEGIN:VEVENT
UID:816f9048-2074-11f0-b202-0a58a9feac02
DTSTAMP:20260422T062509Z
SUMMARY:PTA Association Meeting
URL;VALUE=URI:https://www.lahabraschools.org/laderapalma/calendar/7992138/p
 ta-association-meeting
DTSTART:20261222T230000Z
DTEND:20261223T000000Z
ATTACH;FILENAME=image0 (2).jpeg;FMTTYPE=image/jpeg:https://drive.google.com
 /open?id=19M9xmW9fdWcZGNUtaDclNQkcvfytshOC&authuser=0
END:VEVENT
END:VCALENDAR
