BEGIN:VCALENDAR
VERSION:2.0
PRODID:SchoolNow
CALSCALE:GREGORIAN
BEGIN:VEVENT
UID:ac371826-30fc-11f0-a1c8-0e9050bd4527
DTSTAMP:20260422T062509Z
SUMMARY:PTA Board Meeting
URL;VALUE=URI:https://www.lahabraschools.org/laderapalma/calendar/8134256/p
 ta-board-meeting
DTSTART:20270113T033000Z
DTEND:20270113T043000Z
END:VEVENT
END:VCALENDAR
