BEGIN:VCALENDAR
VERSION:2.0
PRODID:SchoolNow
CALSCALE:GREGORIAN
BEGIN:VEVENT
UID:781bb1dc-34f8-11f0-8378-0a58a9feac02
DTSTAMP:20260421T181508Z
SUMMARY:Afterschool Garden Club
URL;VALUE=URI:https://www.lahabraschools.org/laderapalma/calendar/8164211/a
 fterschool-garden-club
DTSTART:20260218T215000Z
DTEND:20260218T230000Z
END:VEVENT
END:VCALENDAR
