BEGIN:VCALENDAR
VERSION:2.0
PRODID:SchoolNow
CALSCALE:GREGORIAN
BEGIN:VEVENT
UID:781bb2cc-34f8-11f0-a816-0a58a9feac02
DTSTAMP:20260421T121009Z
SUMMARY:Afterschool Garden Club
URL;VALUE=URI:https://www.lahabraschools.org/laderapalma/calendar/8164212/a
 fterschool-garden-club
DTSTART:20260325T205000Z
DTEND:20260325T220000Z
END:VEVENT
END:VCALENDAR
