BEGIN:VCALENDAR
VERSION:2.0
PRODID:SchoolNow
CALSCALE:GREGORIAN
BEGIN:VEVENT
UID:781bb790-34f8-11f0-a454-0a58a9feac02
DTSTAMP:20260421T181508Z
SUMMARY:Afterschool Garden Club
URL;VALUE=URI:https://www.lahabraschools.org/laderapalma/calendar/8164217/a
 fterschool-garden-club
DTSTART:20260819T205000Z
DTEND:20260819T220000Z
END:VEVENT
END:VCALENDAR
