BEGIN:VCALENDAR
VERSION:2.0
PRODID:SchoolNow
CALSCALE:GREGORIAN
BEGIN:VEVENT
UID:781bb876-34f8-11f0-9e24-0a58a9feac02
DTSTAMP:20260422T002009Z
SUMMARY:Afterschool Garden Club
URL;VALUE=URI:https://www.lahabraschools.org/laderapalma/calendar/8164218/a
 fterschool-garden-club
DTSTART:20260916T205000Z
DTEND:20260916T220000Z
END:VEVENT
END:VCALENDAR
