BEGIN:VCALENDAR
VERSION:2.0
PRODID:SchoolNow
CALSCALE:GREGORIAN
BEGIN:VEVENT
UID:781bb966-34f8-11f0-8344-0a58a9feac02
DTSTAMP:20260422T002009Z
SUMMARY:Afterschool Garden Club
URL;VALUE=URI:https://www.lahabraschools.org/laderapalma/calendar/8164219/a
 fterschool-garden-club
DTSTART:20261021T205000Z
DTEND:20261021T220000Z
END:VEVENT
END:VCALENDAR
