BEGIN:VCALENDAR
VERSION:2.0
PRODID:SchoolNow
CALSCALE:GREGORIAN
BEGIN:VEVENT
UID:781bba60-34f8-11f0-9961-0a58a9feac02
DTSTAMP:20260422T002009Z
SUMMARY:Afterschool Garden Club
URL;VALUE=URI:https://www.lahabraschools.org/laderapalma/calendar/8164220/a
 fterschool-garden-club
DTSTART:20261118T215000Z
DTEND:20261118T230000Z
END:VEVENT
END:VCALENDAR
