BEGIN:VCALENDAR
VERSION:2.0
PRODID:SchoolNow
CALSCALE:GREGORIAN
BEGIN:VEVENT
UID:781bbb50-34f8-11f0-95f4-0a58a9feac02
DTSTAMP:20260422T062509Z
SUMMARY:Afterschool Garden Club
URL;VALUE=URI:https://www.lahabraschools.org/laderapalma/calendar/8164221/a
 fterschool-garden-club
DTSTART:20261216T215000Z
DTEND:20261216T230000Z
END:VEVENT
END:VCALENDAR
