BEGIN:VCALENDAR
VERSION:2.0
PRODID:SchoolNow
CALSCALE:GREGORIAN
BEGIN:VEVENT
UID:69b5d97e-35f7-11f0-9838-0a58a9feac02
DTSTAMP:20260421T181508Z
SUMMARY:Vision and Hearing Screening for grades TK\,K\,2nd\, and 5th
URL;VALUE=URI:https://www.lahabraschools.org/laderapalma/calendar/8171649/v
 ision-and-hearing-screening-for-grades-tk-k-2nd-and-5th
DTSTART:20260122T170000Z
DTEND:20260122T190000Z
END:VEVENT
END:VCALENDAR
