BEGIN:VCALENDAR
VERSION:2.0
PRODID:SchoolNow
CALSCALE:GREGORIAN
BEGIN:VEVENT
UID:69b5dea6-35f7-11f0-a049-0a58a9feac02
DTSTAMP:20260422T062509Z
SUMMARY:Afterschool Garden Club
URL;VALUE=URI:https://www.lahabraschools.org/laderapalma/calendar/8171650/a
 fterschool-garden-club
DTSTART:20270120T215000Z
DTEND:20270120T230000Z
END:VEVENT
END:VCALENDAR
