BEGIN:VCALENDAR
VERSION:2.0
PRODID:SchoolNow
CALSCALE:GREGORIAN
BEGIN:VEVENT
UID:1db42d00-3bf1-11f0-97b9-02166bab2149
DTSTAMP:20260422T062509Z
SUMMARY:PTA Association Meeting
URL;VALUE=URI:https://www.lahabraschools.org/laderapalma/calendar/8215257/p
 ta-association-meeting
DTSTART:20270126T230000Z
DTEND:20270127T000000Z
ATTACH;FILENAME=image0 (2).jpeg;FMTTYPE=image/jpeg:https://drive.google.com
 /open?id=19M9xmW9fdWcZGNUtaDclNQkcvfytshOC&authuser=0
END:VEVENT
END:VCALENDAR
