BEGIN:VCALENDAR
VERSION:2.0
PRODID:SchoolNow
CALSCALE:GREGORIAN
BEGIN:VEVENT
UID:1db4300c-3bf1-11f0-92f5-02166bab2149
DTSTAMP:20260422T062509Z
SUMMARY:PTA Association Meeting
URL;VALUE=URI:https://www.lahabraschools.org/laderapalma/calendar/8215258/p
 ta-association-meeting
DTSTART:20270127T033000Z
DTEND:20270127T043000Z
END:VEVENT
END:VCALENDAR
