BEGIN:VCALENDAR
VERSION:2.0
PRODID:SchoolNow
CALSCALE:GREGORIAN
BEGIN:VEVENT
UID:dfbcd16a-40b8-11f0-98e6-0e7a2ef2bfd9
DTSTAMP:20260421T181508Z
SUMMARY:LP - Garden Club Parent Meeting
URL;VALUE=URI:https://www.lahabraschools.org/laderapalma/calendar/8246953/l
 p-garden-club-parent-meeting
DTSTART:20260107T215000Z
DTEND:20260107T225000Z
END:VEVENT
END:VCALENDAR
