BEGIN:VCALENDAR
VERSION:2.0
PRODID:SchoolNow
CALSCALE:GREGORIAN
BEGIN:VEVENT
UID:dfbcd25a-40b8-11f0-8582-0e7a2ef2bfd9
DTSTAMP:20260421T181508Z
SUMMARY:LP - Garden Club Parent Meeting
URL;VALUE=URI:https://www.lahabraschools.org/laderapalma/calendar/8246954/l
 p-garden-club-parent-meeting
DTSTART:20260204T164500Z
DTEND:20260204T174500Z
END:VEVENT
END:VCALENDAR
