BEGIN:VCALENDAR
VERSION:2.0
PRODID:SchoolNow
CALSCALE:GREGORIAN
BEGIN:VEVENT
UID:dfbcd41c-40b8-11f0-9fd0-0e7a2ef2bfd9
DTSTAMP:20260421T121009Z
SUMMARY:LP - Garden Club Parent Meeting
URL;VALUE=URI:https://www.lahabraschools.org/laderapalma/calendar/8246956/l
 p-garden-club-parent-meeting
DTSTART:20260401T205000Z
DTEND:20260401T215000Z
END:VEVENT
END:VCALENDAR
