BEGIN:VCALENDAR
VERSION:2.0
PRODID:SchoolNow
CALSCALE:GREGORIAN
BEGIN:VEVENT
UID:dfbcd502-40b8-11f0-8d4c-0e7a2ef2bfd9
DTSTAMP:20260421T181508Z
SUMMARY:LP - Garden Club Parent Meeting
URL;VALUE=URI:https://www.lahabraschools.org/laderapalma/calendar/8246957/l
 p-garden-club-parent-meeting
DTSTART:20260506T205000Z
DTEND:20260506T215000Z
END:VEVENT
END:VCALENDAR
