BEGIN:VCALENDAR
VERSION:2.0
PRODID:SchoolNow
CALSCALE:GREGORIAN
BEGIN:VEVENT
UID:dfbce100-40b8-11f0-89b1-0e7a2ef2bfd9
DTSTAMP:20260421T181508Z
SUMMARY:Cafecito con las Directoras
URL;VALUE=URI:https://www.lahabraschools.org/laderapalma/calendar/8246971/c
 afecito-con-las-directoras
DTSTART:20260128T170000Z
DTEND:20260128T180000Z
END:VEVENT
END:VCALENDAR
