BEGIN:VCALENDAR
VERSION:2.0
PRODID:SchoolNow
CALSCALE:GREGORIAN
BEGIN:VEVENT
UID:dfbce2ae-40b8-11f0-956e-0e7a2ef2bfd9
DTSTAMP:20260421T181508Z
SUMMARY:Cafecito con las Directoras
URL;VALUE=URI:https://www.lahabraschools.org/laderapalma/calendar/8246973/c
 afecito-con-las-directoras
DTSTART:20260325T160000Z
DTEND:20260325T170000Z
END:VEVENT
END:VCALENDAR
