BEGIN:VCALENDAR
VERSION:2.0
PRODID:SchoolNow
CALSCALE:GREGORIAN
BEGIN:VEVENT
UID:dfbce3f8-40b8-11f0-bfcd-0e7a2ef2bfd9
DTSTAMP:20260421T121009Z
SUMMARY:Cafecito con las Directoras
URL;VALUE=URI:https://www.lahabraschools.org/laderapalma/calendar/8246974/c
 afecito-con-las-directoras
DTSTART:20260429T160000Z
DTEND:20260429T170000Z
END:VEVENT
END:VCALENDAR
