BEGIN:VCALENDAR
VERSION:2.0
PRODID:SchoolNow
CALSCALE:GREGORIAN
BEGIN:VEVENT
UID:dfbce4d4-40b8-11f0-a5a6-0e7a2ef2bfd9
DTSTAMP:20260421T181508Z
SUMMARY:Cafecito con las Directoras
URL;VALUE=URI:https://www.lahabraschools.org/laderapalma/calendar/8246975/c
 afecito-con-las-directoras
DTSTART:20260527T160000Z
DTEND:20260527T170000Z
END:VEVENT
END:VCALENDAR
