BEGIN:VCALENDAR
VERSION:2.0
PRODID:SchoolNow
CALSCALE:GREGORIAN
BEGIN:VEVENT
UID:48a51210-4cac-11f0-9b52-0a58a9feac02
DTSTAMP:20260422T062509Z
SUMMARY:Afterschool Garden Club
URL;VALUE=URI:https://www.lahabraschools.org/laderapalma/calendar/8325997/a
 fterschool-garden-club
DTSTART:20270217T215000Z
DTEND:20270217T230000Z
END:VEVENT
END:VCALENDAR
