BEGIN:VCALENDAR
VERSION:2.0
PRODID:SchoolNow
CALSCALE:GREGORIAN
BEGIN:VEVENT
UID:0900332a-5174-11f0-8bb9-0a58a9feac02
DTSTAMP:20260422T062509Z
SUMMARY:PTA Association Meeting
URL;VALUE=URI:https://www.lahabraschools.org/laderapalma/calendar/8350470/p
 ta-association-meeting
DTSTART:20270224T033000Z
DTEND:20270224T043000Z
END:VEVENT
END:VCALENDAR
