BEGIN:VCALENDAR
VERSION:2.0
PRODID:SchoolNow
CALSCALE:GREGORIAN
BEGIN:VEVENT
UID:1671e212-642d-11f0-a38a-0afff1022c87
DTSTAMP:20260422T123009Z
SUMMARY:Afterschool Garden Club
URL;VALUE=URI:https://www.lahabraschools.org/laderapalma/calendar/8428124/a
 fterschool-garden-club
DTSTART:20270317T205000Z
DTEND:20270317T220000Z
END:VEVENT
END:VCALENDAR
