BEGIN:VCALENDAR
VERSION:2.0
PRODID:SchoolNow
CALSCALE:GREGORIAN
BEGIN:VEVENT
UID:b3f0382e-6bf1-11f0-9b55-0ec27b473abd
DTSTAMP:20260422T123009Z
SUMMARY:PTA Association Meeting
URL;VALUE=URI:https://www.lahabraschools.org/laderapalma/calendar/8452566/p
 ta-association-meeting
DTSTART:20270323T220000Z
DTEND:20270323T230000Z
ATTACH;FILENAME=image0 (2).jpeg;FMTTYPE=image/jpeg:https://drive.google.com
 /open?id=19M9xmW9fdWcZGNUtaDclNQkcvfytshOC&authuser=0
END:VEVENT
END:VCALENDAR
