BEGIN:VCALENDAR
VERSION:2.0
PRODID:SchoolNow
CALSCALE:GREGORIAN
BEGIN:VEVENT
UID:b3f03d42-6bf1-11f0-81cc-0ec27b473abd
DTSTAMP:20260422T123010Z
SUMMARY:PTA Association Meeting
URL;VALUE=URI:https://www.lahabraschools.org/laderapalma/calendar/8452567/p
 ta-association-meeting
DTSTART:20270324T023000Z
DTEND:20270324T033000Z
END:VEVENT
END:VCALENDAR
