BEGIN:VCALENDAR
VERSION:2.0
PRODID:SchoolNow
CALSCALE:GREGORIAN
BEGIN:VEVENT
UID:dab39364-82a5-11f0-8a35-0a58a9feac02
DTSTAMP:20260422T123009Z
SUMMARY:Afterschool Garden Club
URL;VALUE=URI:https://www.lahabraschools.org/laderapalma/calendar/8545845/a
 fterschool-garden-club
DTSTART:20270421T205000Z
DTEND:20270421T220000Z
END:VEVENT
END:VCALENDAR
