BEGIN:VCALENDAR
VERSION:2.0
PRODID:SchoolNow
CALSCALE:GREGORIAN
BEGIN:VEVENT
UID:daf4b09c-82a5-11f0-91e6-0a58a9feac02
DTSTAMP:20260422T123009Z
SUMMARY:PTA Board Meeting
URL;VALUE=URI:https://www.lahabraschools.org/laderapalma/calendar/8545848/p
 ta-board-meeting
DTSTART:20270414T023000Z
DTEND:20270414T033000Z
END:VEVENT
END:VCALENDAR
