BEGIN:VCALENDAR
VERSION:2.0
PRODID:SchoolNow
CALSCALE:GREGORIAN
BEGIN:VEVENT
UID:53688d72-8d01-11f0-8344-0e28fb91b45f
DTSTAMP:20260421T181508Z
SUMMARY:Food Distribution - Farmers Market
LOCATION:Washington Middle School\, 716 E La Habra Blvd\, La Habra\, CA 906
 31\, USA
URL;VALUE=URI:https://www.lahabraschools.org/laderapalma/calendar/8596394/f
 ood-distribution-farmers-market
DTSTART:20260128T174500Z
DTEND:20260128T184500Z
ATTACH;FILENAME=Free Farmers Market.pdf;FMTTYPE=application/pdf:https://dri
 ve.google.com/open?id=108c6IF_Yg7OWc4QG0-nW32CDFmGMQYep
END:VEVENT
END:VCALENDAR
