BEGIN:VCALENDAR
VERSION:2.0
PRODID:SchoolNow
CALSCALE:GREGORIAN
BEGIN:VEVENT
UID:53688e58-8d01-11f0-8bcd-0e28fb91b45f
DTSTAMP:20260421T181508Z
SUMMARY:Food Distribution - Farmers Market
LOCATION:Walnut Elementary School\, 625 N Walnut St\, La Habra\, CA 90631\,
  USA
URL;VALUE=URI:https://www.lahabraschools.org/laderapalma/calendar/8596395/f
 ood-distribution-farmers-market
DTSTART:20260116T174500Z
DTEND:20260116T184500Z
ATTACH;FILENAME=FARMERS MARKET (2) (1).png;FMTTYPE=image/png:https://drive.
 google.com/open?id=1hpBtyOjZ_WSd9Mf-S2je2tODB2USBlCi
ATTACH;FILENAME=FARMERS MARKET (3) (1).png;FMTTYPE=image/png:https://drive.
 google.com/open?id=1lPf93QsbeIR_T-dgdxTN6aDYlXK-dE3j
END:VEVENT
END:VCALENDAR
