BEGIN:VCALENDAR
VERSION:2.0
PRODID:SchoolNow
CALSCALE:GREGORIAN
BEGIN:VEVENT
UID:53b1bc5e-8d01-11f0-8b4f-0e28fb91b45f
DTSTAMP:20260422T123010Z
SUMMARY:PTA Association Meeting
URL;VALUE=URI:https://www.lahabraschools.org/laderapalma/calendar/8596407/p
 ta-association-meeting
DTSTART:20270428T023000Z
DTEND:20270428T033000Z
END:VEVENT
END:VCALENDAR
