BEGIN:VCALENDAR
VERSION:2.0
PRODID:SchoolNow
CALSCALE:GREGORIAN
BEGIN:VEVENT
UID:53b1cb22-8d01-11f0-a7a6-0e28fb91b45f
DTSTAMP:20260421T181508Z
SUMMARY:Food Distribution - Farmers Market
LOCATION:Walnut Elementary School\, 625 N Walnut St\, La Habra\, CA 90631\,
  USA
URL;VALUE=URI:https://www.lahabraschools.org/laderapalma/calendar/8596413/f
 ood-distribution-farmers-market
DTSTART:20260605T164500Z
DTEND:20260605T174500Z
ATTACH;FILENAME=1 (3).png;FMTTYPE=image/png:https://drive.google.com/open?i
 d=1XR8KcnVhjyFKuczkHHR3yrr5mb_GsRdw
ATTACH;FILENAME=2 (2).png;FMTTYPE=image/png:https://drive.google.com/open?i
 d=1G5kFugS2KRyXPw2mmWEGDQ9o7w8XNgGb
END:VEVENT
END:VCALENDAR
