BEGIN:VCALENDAR
VERSION:2.0
PRODID:SchoolNow
CALSCALE:GREGORIAN
BEGIN:VEVENT
UID:53b1ccee-8d01-11f0-83d6-0e28fb91b45f
DTSTAMP:20260421T181508Z
SUMMARY:Food Distribution - Farmers Market
LOCATION:Washington Middle School\, 716 E La Habra Blvd\, La Habra\, CA 906
 31\, USA
URL;VALUE=URI:https://www.lahabraschools.org/laderapalma/calendar/8596415/f
 ood-distribution-farmers-market
DTSTART:20260325T164500Z
DTEND:20260325T174500Z
END:VEVENT
END:VCALENDAR
