BEGIN:VCALENDAR
VERSION:2.0
PRODID:SchoolNow
CALSCALE:GREGORIAN
BEGIN:VEVENT
UID:b9f5fd74-98c1-11f0-b12d-0a58a9feac02
DTSTAMP:20260422T123009Z
SUMMARY:Afterschool Garden Club
URL;VALUE=URI:https://www.lahabraschools.org/laderapalma/calendar/8657059/a
 fterschool-garden-club
DTSTART:20270519T205000Z
DTEND:20270519T220000Z
END:VEVENT
END:VCALENDAR
