BEGIN:VCALENDAR
VERSION:2.0
PRODID:SchoolNow
CALSCALE:GREGORIAN
BEGIN:VEVENT
UID:9ec24f3a-9abf-11f0-88a6-0a58a9feac02
DTSTAMP:20260422T123010Z
SUMMARY:PTA Association Meeting
URL;VALUE=URI:https://www.lahabraschools.org/laderapalma/calendar/8666206/p
 ta-association-meeting
DTSTART:20270526T023000Z
DTEND:20270526T033000Z
END:VEVENT
END:VCALENDAR
