BEGIN:VCALENDAR
VERSION:2.0
PRODID:SchoolNow
CALSCALE:GREGORIAN
BEGIN:VEVENT
UID:2136cc72-a482-11f0-b9bb-0a58a9feac02
DTSTAMP:20260421T121009Z
SUMMARY:Spring Break - NO SCHOOL
URL;VALUE=URI:https://www.lahabraschools.org/laderapalma/calendar/8706137/s
 pring-break-no-school
DTSTART;VALUE=DATE:20260316
DTEND;VALUE=DATE:20260321
END:VEVENT
END:VCALENDAR
