BEGIN:VCALENDAR
VERSION:2.0
PRODID:SchoolNow
CALSCALE:GREGORIAN
BEGIN:VEVENT
UID:ec5d8b9e-a87d-11f0-8099-0ebc945560ab
DTSTAMP:20260421T181508Z
SUMMARY:Parent Conference Week-Minimum Days
URL;VALUE=URI:https://www.lahabraschools.org/laderapalma/calendar/8719789/p
 arent-conference-week-minimum-days
DTSTART;VALUE=DATE:20260202
DTEND;VALUE=DATE:20260207
END:VEVENT
END:VCALENDAR
