BEGIN:VCALENDAR
VERSION:2.0
PRODID:SchoolNow
CALSCALE:GREGORIAN
BEGIN:VEVENT
UID:c321f912-abad-11f0-bf73-0affcab00487
DTSTAMP:20260422T123009Z
SUMMARY:Afterschool Garden Club
URL;VALUE=URI:https://www.lahabraschools.org/laderapalma/calendar/8730444/a
 fterschool-garden-club
DTSTART:20270616T205000Z
DTEND:20270616T220000Z
END:VEVENT
END:VCALENDAR
