BEGIN:VCALENDAR
VERSION:2.0
PRODID:SchoolNow
CALSCALE:GREGORIAN
BEGIN:VEVENT
UID:aec0e782-b05b-11f0-ae61-0228d1b25e73
DTSTAMP:20260422T123010Z
SUMMARY:PTA Association Meeting
URL;VALUE=URI:https://www.lahabraschools.org/laderapalma/calendar/8745530/p
 ta-association-meeting
DTSTART:20270623T023000Z
DTEND:20270623T033000Z
END:VEVENT
END:VCALENDAR
