BEGIN:VCALENDAR
VERSION:2.0
PRODID:SchoolNow
CALSCALE:GREGORIAN
BEGIN:VEVENT
UID:9eebfc02-c677-11f0-a7d9-0a58a9feac02
DTSTAMP:20260421T181508Z
SUMMARY:PTA Board Meeting
URL;VALUE=URI:https://www.lahabraschools.org/laderapalma/calendar/8806425/p
 ta-board-meeting
DTSTART:20260610T023000Z
DTEND:20260610T033000Z
END:VEVENT
END:VCALENDAR
