BEGIN:VCALENDAR
VERSION:2.0
PRODID:SchoolNow
CALSCALE:GREGORIAN
BEGIN:VEVENT
UID:9eebfd06-c677-11f0-95ac-0a58a9feac02
DTSTAMP:20260421T181508Z
SUMMARY:PTA Board Meeting
URL;VALUE=URI:https://www.lahabraschools.org/laderapalma/calendar/8806426/p
 ta-board-meeting
DTSTART:20260715T023000Z
DTEND:20260715T033000Z
END:VEVENT
END:VCALENDAR
