BEGIN:VCALENDAR
VERSION:2.0
PRODID:SchoolNow
CALSCALE:GREGORIAN
BEGIN:VEVENT
UID:9eec06fc-c677-11f0-8aaf-0a58a9feac02
DTSTAMP:20260422T123009Z
SUMMARY:PTA Board Meeting
URL;VALUE=URI:https://www.lahabraschools.org/laderapalma/calendar/8806437/p
 ta-board-meeting
DTSTART:20270609T023000Z
DTEND:20270609T033000Z
END:VEVENT
END:VCALENDAR
