BEGIN:VCALENDAR
VERSION:2.0
PRODID:SchoolNow
CALSCALE:GREGORIAN
BEGIN:VEVENT
UID:9eec1638-c677-11f0-8412-0a58a9feac02
DTSTAMP:20260421T181508Z
SUMMARY:LP PTA Association Meeting
LOCATION:https://us02web.zoom.us/j/82608115941?pwd=V7ULGJbr0W2sz0ZzTyVBEQZx
 rMIwtV.1
URL;VALUE=URI:https://www.lahabraschools.org/laderapalma/calendar/8806449/l
 p-pta-association-meeting
DTSTART:20260527T023000Z
DTEND:20260527T033000Z
END:VEVENT
END:VCALENDAR
